BEGIN:VCALENDAR
VERSION:2.0
PRODID:-//Brach.nl - ECPv6.15.17.1//NONSGML v1.0//EN
CALSCALE:GREGORIAN
METHOD:PUBLISH
X-ORIGINAL-URL:https://brach.nl
X-WR-CALDESC:Evenementen voor Brach.nl
REFRESH-INTERVAL;VALUE=DURATION:PT1H
X-Robots-Tag:noindex
X-PUBLISHED-TTL:PT1H
BEGIN:VTIMEZONE
TZID:Europe/Amsterdam
BEGIN:DAYLIGHT
TZOFFSETFROM:+0100
TZOFFSETTO:+0200
TZNAME:CEST
DTSTART:20250330T010000
END:DAYLIGHT
BEGIN:STANDARD
TZOFFSETFROM:+0200
TZOFFSETTO:+0100
TZNAME:CET
DTSTART:20251026T010000
END:STANDARD
BEGIN:DAYLIGHT
TZOFFSETFROM:+0100
TZOFFSETTO:+0200
TZNAME:CEST
DTSTART:20260329T010000
END:DAYLIGHT
BEGIN:STANDARD
TZOFFSETFROM:+0200
TZOFFSETTO:+0100
TZNAME:CET
DTSTART:20261025T010000
END:STANDARD
BEGIN:DAYLIGHT
TZOFFSETFROM:+0100
TZOFFSETTO:+0200
TZNAME:CEST
DTSTART:20270328T010000
END:DAYLIGHT
BEGIN:STANDARD
TZOFFSETFROM:+0200
TZOFFSETTO:+0100
TZNAME:CET
DTSTART:20271031T010000
END:STANDARD
END:VTIMEZONE
BEGIN:VEVENT
DTSTART;TZID=Europe/Amsterdam:20260424T190000
DTEND;TZID=Europe/Amsterdam:20260424T230000
DTSTAMP:20260421T104105
CREATED:20260121T174014Z
LAST-MODIFIED:20260121T174014Z
UID:1556-1777057200-1777071600@brach.nl
SUMMARY:Chill Avond Jeugdhonk (11 t/m 16 jaar)
DESCRIPTION:Jeugdhonk heeft elke laatste vrijdag van de maand een Chill-avond en is open van 19.00 – 23.00 uur. \nLeeftijd 11 tot 16 jaar.
URL:https://brach.nl/event/chill-avond-jeugdhonk-april-2026/
CATEGORIES:Brach.nl,Jeugdwerk
ATTACH;FMTTYPE=image/jpeg:https://brach.nl/wp-content/uploads/2025/12/IMG_5182-scaled.jpeg
END:VEVENT
BEGIN:VEVENT
DTSTART;TZID=Europe/Amsterdam:20260429T190000
DTEND;TZID=Europe/Amsterdam:20260429T213000
DTSTAMP:20260421T104105
CREATED:20260403T132137Z
LAST-MODIFIED:20260403T132332Z
UID:1947-1777489200-1777498200@brach.nl
SUMMARY:DJ Workshop (12 t/m 20 jaar)
DESCRIPTION:Jeugdwerk organiseert een heuse DJ Workshop in samenwerking met Cultuur Perron. Wil jij jouw DJ skills vergroten\, meld je dan snel aan voor deze activiteit.\nDe activiteit vindt plaats op woensdag 29 april van 19:00 – 21:30 in het Jeugdhonk. \nDeze activiteit is voor kinderen van 12 tot en met 20 jaar.
URL:https://brach.nl/event/dj-workshop/
LOCATION:Jeugdwerk
CATEGORIES:Brach.nl,Jeugdwerk
ATTACH;FMTTYPE=image/jpeg:https://brach.nl/wp-content/uploads/2026/04/DJ-Workshop_01.jpg
END:VEVENT
BEGIN:VEVENT
DTSTART;TZID=Europe/Amsterdam:20261023T190000
DTEND;TZID=Europe/Amsterdam:20261023T220000
DTSTAMP:20260421T104105
CREATED:20251109T105401Z
LAST-MODIFIED:20251111T191551Z
UID:1340-1792782000-1792792800@brach.nl
SUMMARY:Friskrat zitten 2026
DESCRIPTION:
URL:https://brach.nl/event/friskrat-zitten-2026/
LOCATION:Jeugdwerk
CATEGORIES:Brach.nl,Jeugdwerk
END:VEVENT
BEGIN:VEVENT
DTSTART;TZID=Europe/Amsterdam:20261031T183000
DTEND;TZID=Europe/Amsterdam:20261031T203000
DTSTAMP:20260421T104105
CREATED:20251109T105229Z
LAST-MODIFIED:20251109T105229Z
UID:1338-1793471400-1793478600@brach.nl
SUMMARY:Halloween 2026
DESCRIPTION:
URL:https://brach.nl/event/halloween-2026/
CATEGORIES:Brach.nl,Jeugdwerk
ATTACH;FMTTYPE=image/jpeg:https://brach.nl/wp-content/uploads/2025/10/Halloween.jpg
END:VEVENT
END:VCALENDAR